BEGIN:VCALENDAR
VERSION:2.0
PRODID:-//GMCA - ECPv6.15.20//NONSGML v1.0//EN
CALSCALE:GREGORIAN
METHOD:PUBLISH
X-WR-CALNAME:GMCA
X-ORIGINAL-URL:https://greenmeadow.org
X-WR-CALDESC:Events for GMCA
REFRESH-INTERVAL;VALUE=DURATION:PT1H
X-Robots-Tag:noindex
X-PUBLISHED-TTL:PT1H
BEGIN:VTIMEZONE
TZID:America/Los_Angeles
BEGIN:DAYLIGHT
TZOFFSETFROM:-0800
TZOFFSETTO:-0700
TZNAME:PDT
DTSTART:20200308T100000
END:DAYLIGHT
BEGIN:STANDARD
TZOFFSETFROM:-0700
TZOFFSETTO:-0800
TZNAME:PST
DTSTART:20201101T090000
END:STANDARD
BEGIN:DAYLIGHT
TZOFFSETFROM:-0800
TZOFFSETTO:-0700
TZNAME:PDT
DTSTART:20210314T100000
END:DAYLIGHT
BEGIN:STANDARD
TZOFFSETFROM:-0700
TZOFFSETTO:-0800
TZNAME:PST
DTSTART:20211107T090000
END:STANDARD
BEGIN:DAYLIGHT
TZOFFSETFROM:-0800
TZOFFSETTO:-0700
TZNAME:PDT
DTSTART:20220313T100000
END:DAYLIGHT
BEGIN:STANDARD
TZOFFSETFROM:-0700
TZOFFSETTO:-0800
TZNAME:PST
DTSTART:20221106T090000
END:STANDARD
BEGIN:DAYLIGHT
TZOFFSETFROM:-0800
TZOFFSETTO:-0700
TZNAME:PDT
DTSTART:20230312T100000
END:DAYLIGHT
BEGIN:STANDARD
TZOFFSETFROM:-0700
TZOFFSETTO:-0800
TZNAME:PST
DTSTART:20231105T090000
END:STANDARD
END:VTIMEZONE
BEGIN:VEVENT
DTSTART;TZID=America/Los_Angeles:20220521T073000
DTEND;TZID=America/Los_Angeles:20220521T120000
DTSTAMP:20260420T015032
CREATED:20220408T032550Z
LAST-MODIFIED:20220408T032550Z
UID:10001846-1653118200-1653134400@greenmeadow.org
SUMMARY:MARLINS : Practice Meet
DESCRIPTION:Come cheer on your local swim team swimmers AND their parents as they practice running a meet before the season starts.
URL:https://greenmeadow.org/event/marlins-practice-meet/
END:VEVENT
BEGIN:VEVENT
DTSTART;TZID=America/Los_Angeles:20220504T190000
DTEND;TZID=America/Los_Angeles:20220504T220000
DTSTAMP:20260420T015032
CREATED:20220408T001522Z
LAST-MODIFIED:20220408T001522Z
UID:10001840-1651690800-1651701600@greenmeadow.org
SUMMARY:GMCA Movie Night : SUMMER OF SOUL
DESCRIPTION:Join us for an evenings to enjoy our big\, new TV screen watching Oscar- inspired movies like SUMMER OF SOUL\, the Oscar winner Best Documentary Feature. The Clubhouse amenities make these events easy to manage\, from making the popcorn (or whatever) to serving the beverages and snacks and setting up the right number of chairs. \nYou can also help us pick the flick for future GMCA Movie Nights. If you want to be included but can’t this time\, let us know. Or if you’d like to consider creating an ongoing event\, (and moving beyond Oscar-related films) we have that in mind also. \nRSVP to Mark and Carolyn Dobervich\, 650-924-1814 (home) so we can estimate attendance.
URL:https://greenmeadow.org/event/gmca-movie-night-summer-of-soul/
LOCATION:Clubhouse
END:VEVENT
BEGIN:VEVENT
DTSTART;TZID=America/Los_Angeles:20220423T183000
DTEND;TZID=America/Los_Angeles:20220423T200000
DTSTAMP:20260420T015032
CREATED:20220408T032239Z
LAST-MODIFIED:20220408T032239Z
UID:10001845-1650738600-1650744000@greenmeadow.org
SUMMARY:MARLINS : Parent Social and Game Night
DESCRIPTION:An old- fashioned game night.\nBoard games will be available for all the Marlins and their families.\nLet’s get to know each other and build community. \nNo video games or screens\, please.
URL:https://greenmeadow.org/event/marlins-parent-social-and-game-night/
END:VEVENT
BEGIN:VEVENT
DTSTART;TZID=America/Los_Angeles:20220420T190000
DTEND;TZID=America/Los_Angeles:20220420T220000
DTSTAMP:20260420T015032
CREATED:20220408T002134Z
LAST-MODIFIED:20220408T002134Z
UID:10001841-1650481200-1650492000@greenmeadow.org
SUMMARY:GMCA Movie Night : CODA
DESCRIPTION:Join us for an evenings to enjoy our big\, new TV screen watching Oscar- inspired movies like CODA\, the Oscar winner Best Picture. The Clubhouse amenities make these events easy to manage\, from making the popcorn (or whatever) to serving the beverages and snacks and setting up the right number of chairs. \nYou can also help us pick the flick for future GMCA Movie Nights. If you want to be included but can’t this time\, let us know. Or if you’d like to consider creating an ongoing event\, (and moving beyond Oscar-related films) we have that in mind also. \nRSVP to Mark and Carolyn Dobervich\, 650-924-1814 (home) so we can estimate attendance.
URL:https://greenmeadow.org/event/gmca-movie-night-coda/
LOCATION:Clubhouse
END:VEVENT
BEGIN:VEVENT
DTSTART;TZID=America/Los_Angeles:20220416T100000
DTEND;TZID=America/Los_Angeles:20220416T120000
DTSTAMP:20260420T015032
CREATED:20220306T192953Z
LAST-MODIFIED:20220408T000803Z
UID:10001786-1650103200-1650110400@greenmeadow.org
SUMMARY:Spring Egg Hunt
DESCRIPTION:Join us on Saturday\, April 16 at 10am sharp in Greenmeadow Park for our annual Spring Egg Hunt. We’ll have hundreds of eggs hidden throughout the park\, including the illustrious Golden Eggs for a special prize. Don’t miss it! \nAll ages are welcome\, with the younger kids getting a head start to ensure everyone goes home happy. \nBring your basket and we’ll see you on April 16 in the park.
URL:https://greenmeadow.org/event/spring-egg-hunt/
END:VEVENT
BEGIN:VEVENT
DTSTART;TZID=America/Los_Angeles:20220416T100000
DTEND;TZID=America/Los_Angeles:20220416T110000
DTSTAMP:20260420T015032
CREATED:20220408T031834Z
LAST-MODIFIED:20220408T031834Z
UID:10001844-1650103200-1650106800@greenmeadow.org
SUMMARY:MARLINS : New Parent Swim Team General Meeting & Brunch
DESCRIPTION:Come by to learn more about the swim team\, meet other parents and enjoy some brunch!
URL:https://greenmeadow.org/event/marlins-new-parent-swim-team-general-meeting-brunch/
END:VEVENT
BEGIN:VEVENT
DTSTART;TZID=America/Los_Angeles:20220413T190000
DTEND;TZID=America/Los_Angeles:20220413T200000
DTSTAMP:20260420T015032
CREATED:20220408T030802Z
LAST-MODIFIED:20220413T172834Z
UID:10001842-1649876400-1649880000@greenmeadow.org
SUMMARY:GMCA Quarterly Board Meeting @7PM
DESCRIPTION:Please join us in the Clubhouse on Wednesday\, January 13\, at 7pm for the GMCA Quarterly meeting. Refreshments will be served. \nAgenda: \n\nInvestment proposal\n\nThe GMCA Board is seeking community feedback (see the link below)\n\n\nPool changing room renovation\n\nWe’re in the beginning stages of planning. Bring you suggestions!\n\n\nManager’s Update\nFinancial Update
URL:https://greenmeadow.org/event/gmca-quarterly-board-meeting-7pm-2/
LOCATION:Clubhouse
END:VEVENT
BEGIN:VEVENT
DTSTART;TZID=America/Los_Angeles:20220320T150000
DTEND;TZID=America/Los_Angeles:20220320T180000
DTSTAMP:20260420T015032
CREATED:20220306T192531Z
LAST-MODIFIED:20220306T192531Z
UID:10001785-1647788400-1647799200@greenmeadow.org
SUMMARY:Membership Appreciation and Taco Feed!
DESCRIPTION:Join us for the 2022 GMCA Member Appreciation Taco Feed on March 20th!! Members who pay at the event or who have already paid for their 2022 memberships will receive FREE TACOS (family swim: 10 tacos\, Individual/Fair Share/Sr. Fair Share: 5 tacos) from El Grullense! \nSince you have until April 1st to get the $50 early-bird discount\, take advantage of this opportunity to not only save money\, but get free tacos! This is a great time to come socialize fellow members while enjoying delicious food in the park\, bring your swimsuits\, the pool is open until 7pm! \nEl Grullense Menu: Tacos\, Burrito Supreme\, Burrito Regular\, Burrito Veggie\, Quesadilla and Super Nacho (non-taco items are for purchase). GMCA staff will be available to assist in membership registrations at the party. Or simply log on to your Club Express account and renew your membership online. Email me (caleb@greenmeadow.org) for questions/assistance\, or if you would like to volunteer at the event. \nRegister for a Family\, Individual\, Fair Share\, or Sr. Fair Share membership.\nSee greeenmeadow.org/join or register at the party \n 
URL:https://greenmeadow.org/event/membership-appreciation-and-taco-feed/
END:VEVENT
BEGIN:VEVENT
DTSTART;TZID=America/Los_Angeles:20220225T160000
DTEND;TZID=America/Los_Angeles:20220225T180000
DTSTAMP:20260420T015032
CREATED:20220208T005543Z
LAST-MODIFIED:20220208T005543Z
UID:10001685-1645804800-1645812000@greenmeadow.org
SUMMARY:Polar Plunge
DESCRIPTION:All GMCA Swim member kids\, pre- season swimmers\, and Marlins are encouraged to join us for a plunge into the pool to grab prizes! All abil- ities are encouraged to participate! \nFREE EVENT! \nPrizes include half dollars and quarters and more coins (retrieved from the bottom of the pool)\, plush- ies and candy! Come to take the plunge\, or just have Cocoa and Cookies while cheering on the brave kids diving in \n\n 
URL:https://greenmeadow.org/event/polar-plunge/
END:VEVENT
BEGIN:VEVENT
DTSTART;TZID=America/Los_Angeles:20220130T160000
DTEND;TZID=America/Los_Angeles:20220130T220000
DTSTAMP:20260420T015032
CREATED:20211214T221048Z
LAST-MODIFIED:20211214T221048Z
UID:10001684-1643558400-1643580000@greenmeadow.org
SUMMARY:Chinese New Year Party
DESCRIPTION:2022 – Year if the Tiger – celebration
URL:https://greenmeadow.org/event/chinese-new-year-party/
END:VEVENT
BEGIN:VEVENT
DTSTART;TZID=America/Los_Angeles:20220101T053000
DTEND;TZID=America/Los_Angeles:20220101T120000
DTSTAMP:20260420T015032
CREATED:20211214T220704Z
LAST-MODIFIED:20211214T220704Z
UID:10001683-1641015000-1641038400@greenmeadow.org
SUMMARY:New Years Day
DESCRIPTION:Pool will be open 5:30am-12pm on New Years Day. No guard on duty.
URL:https://greenmeadow.org/event/new-years-day/
END:VEVENT
BEGIN:VEVENT
DTSTART;TZID=America/Los_Angeles:20211225T053000
DTEND;TZID=America/Los_Angeles:20211225T120000
DTSTAMP:20260420T015032
CREATED:20211214T220615Z
LAST-MODIFIED:20211214T220741Z
UID:10001682-1640410200-1640433600@greenmeadow.org
SUMMARY:Christmas Day
DESCRIPTION:Pool will be open 5:30am-12pm on Christmas Day. No guard on duty.
URL:https://greenmeadow.org/event/christmas-day/
END:VEVENT
BEGIN:VEVENT
DTSTART;TZID=America/Los_Angeles:20211218T130000
DTEND;TZID=America/Los_Angeles:20211218T150000
DTSTAMP:20260420T015032
CREATED:20211214T220331Z
LAST-MODIFIED:20211214T220331Z
UID:10001681-1639832400-1639839600@greenmeadow.org
SUMMARY:HAPPY HOLIDAYS POOL PARTY
DESCRIPTION:Join us at the pool on December 18th from 1-3pm for holiday pool games\, cookies and hot cocoa\, ornament decorating\, and a visit from Santa! \nHoliday pool games and relays will run from 1-2pm\, then entire pool will be open from 2-3pm for open swim (no lap lanes from 1-3pm). Games include Rudolph’s nose\, collecting the Christmas decorations\, stuffing the stocking\, and holiday relays. Then join us in the clubhouse from 2-3pm for holiday ornament decorating\, holiday music\, hot cocoa\, holiday snacks. Santa will also make a surprise visit in the clubhouse from 2-3pm! Make sure to bring your camera for selfies with Santa! \nWho: All active GMCA members\nWhen: Saturday\, December 18th from 1-3pm\nWhere: GMCA Pool and Clubhouse \nPlease note how many people plan to attend so we can purchase the right amount of food and crafts. \nRegistration Link \nPlease email Caleb (caleb@greenmeadow.org) if you or your CIT maybe interested in volunteering to helping out with the holiday pool games or ornament decorating. \nWe hope to see you on the 18th! \nHappy Holidays!
URL:https://greenmeadow.org/event/happy-holidays-pool-party/
END:VEVENT
BEGIN:VEVENT
DTSTART;TZID=America/Los_Angeles:20211205T140000
DTEND;TZID=America/Los_Angeles:20211205T170000
DTSTAMP:20260420T015032
CREATED:20211012T233231Z
LAST-MODIFIED:20211111T052822Z
UID:10001680-1638712800-1638723600@greenmeadow.org
SUMMARY:Holiday Open House
DESCRIPTION:Membership Committee is planning the Holiday Open House for Sunday\, Dec 5\, 2 – 5pm.\nWe will be thanking the board for all their work this year.\nThe plan is to have it at the clubhouse\, with open doors\, and also just outside facing the park.\nHope to see you all there. \n 
URL:https://greenmeadow.org/event/holiday-open-house/
LOCATION:Clubhouse
END:VEVENT
BEGIN:VEVENT
DTSTART;TZID=America/Los_Angeles:20211030T080000
DTEND;TZID=America/Los_Angeles:20211030T120000
DTSTAMP:20260420T015032
CREATED:20211001T212447Z
LAST-MODIFIED:20211001T212447Z
UID:10001675-1635580800-1635595200@greenmeadow.org
SUMMARY:Scary Distance Meet
DESCRIPTION:The Scary Distance Meet is an old Greenmeadow tradition\, which many older swimmers remember as a frightfully favorite event. Swim longer than normal distances with extra challenging events for those who want even more of a fright. Low key and purely for fun—no DQs\, no places\, lots of candy and raffle prizes. \n\n\n\n\nWHO: The meet is open to all 2021 Summer Marlins\, Jr. Marlins\, and Post-Season swimmers\, but no adults for this one\, just the kiddos. \nCOST? The cost is $10 per entrant\, which includes a special meet swim cap\, goodie bag\, and a raffle ticket per event entered. \n\n\nCOSTUMES? Yes! We encourage costumes for kids and adults alike. \nHOW TO ENTER? We are finalizing the meet and entry process\, but please keep an eye out for more information. We will send out an email and the meet will also be listed as an open event on the Marlins website.
URL:https://greenmeadow.org/event/scary-distance-meet/
END:VEVENT
BEGIN:VEVENT
DTSTART;TZID=America/Los_Angeles:20211024T090000
DTEND;TZID=America/Los_Angeles:20211024T120000
DTSTAMP:20260420T015032
CREATED:20211001T213052Z
LAST-MODIFIED:20211001T213052Z
UID:10001676-1635066000-1635076800@greenmeadow.org
SUMMARY:Underwater Pumpkin Patch and Carving Party
DESCRIPTION:Date: Sunday\, October 24\, 2021\nPumpkin Patch: 9:00 am to 10:30\nPumpkin Carving: 10:00 am to noon\nJudging: begins at 11:30 am\nLocation: Greenmeadow Pool & Park \n\n\n\nCome join us to pick out a pumpkin at our Under- water Pumpkin Patch! Pumpkins will cost $2-20 depending on size. There will be seasonal games and races for children of all ages. Hot apple cider and halloween treats will be available. This is a great way to pick out your Halloween pumpkin! Then head to the park to carve your pumpkin. Registration will be through Club Expresee (email to follow). \n\n\n\nAs an additional bonus\, this year\, Diablo Ct. residents want to share their decades-long tradition of a Halloween Pumpkin Carving Party. Young and old are invited to bring\nyour own pumpkin\, creative ideas and carving tools. All ages are encouraged to enter the First Annual Pumpkin Carving Contest. \n\n\n\nMASKS ARE REQUIRED as this is an outdoor event for kids and adults.\nIf you would like to help clean up or be a Judge for the contest\, please email Rebecca Marasco at bexw19@yahoo.com \n\n\n\n\n\n\nCategories:\n– KIDS UNDER 5\n– FUNNIEST\n– KIDS UNDER 12\n– SCARIEST\n– CUTEST\n– MOST CREATIVE
URL:https://greenmeadow.org/event/underwater-pumpkin-patch-and-carving-party/
END:VEVENT
BEGIN:VEVENT
DTSTART;TZID=America/Los_Angeles:20211016T190000
DTEND;TZID=America/Los_Angeles:20211016T220000
DTSTAMP:20260420T015032
CREATED:20211001T213729Z
LAST-MODIFIED:20211001T213857Z
UID:10001678-1634410800-1634421600@greenmeadow.org
SUMMARY:GET OUT - Film Screening & Conversation
DESCRIPTION:SATURDAY\, OCTOBER 16TH\nDRINKS & MINGLE AT 7PM\nSHOW STARTS AT 7:30PM\nTHE GREENMEADOW CLUBHOUSE\nHOSTED BY JEFF MEYERS \n\n\n\n\nIt’s all tricks and treats in Jordan Peele’s Oscar-winning GET OUT. Scares and satire mix in a richly-lay- ered look at racial toxicity in America. Peele’s inventive mix of mad scientist horror\, tongue-in-cheek humor\, and social critique earned it the 2018 Oscar for Best Screenplay along with nominations for Best Picture\, Best Director\, and Best Actor. \n\n\n\n\nEven if you’ve seen the film\, the before-screening introduction will hopefully draw your attention to fascinating details\, subtext\, and symbolism you might have missed the first time around. Conversation after the movie is welcome. \nOnce upon a time\, Jeff Meyers was an award-winning film critic and journalist\, served as president of the Detroit Film Critics Society (2010-2013)\, and spent ten years teaching film appreciation and lead- ing film groups. He now works on the film and television editorial team for Apple.
URL:https://greenmeadow.org/event/get-out-film-screening-conversation/
END:VEVENT
BEGIN:VEVENT
DTSTART;TZID=America/Los_Angeles:20211013T190000
DTEND;TZID=America/Los_Angeles:20211013T200000
DTSTAMP:20260420T015032
CREATED:20210626T223144Z
LAST-MODIFIED:20211012T232651Z
UID:10001674-1634151600-1634155200@greenmeadow.org
SUMMARY:GMCA Quarterly Board Meeting @7PM
DESCRIPTION:Please join us at 7pm on Wednesday\, October 13th for the GMCA Quarterly meeting. \nThis is the most important meeting of the year. We need a quorum of 25 resident members!\n\n\n Agenda: \n\nClub Manager’s Update\n2022 Board Member Nominations (vote to approve)\n2021 Financial Update\n2022 Budget (vote to approve)\n2022 Membership Dues\, Quota and expanded social membership (vote to approve)\n\n\n \nThis meeting will be on Zoom.\n\nhttps://zoom.us/j/96475957082?pwd=aWdvZ2JlWjNSejQrRGcrODZZNXhrdz09 \nDial In:  (669) 900-6833\nMeeting ID: 964 7595 7082\nPasscode: 957409
URL:https://greenmeadow.org/event/gmca-quarterly-board-meeting-7pm/
END:VEVENT
BEGIN:VEVENT
DTSTART;TZID=America/Los_Angeles:20211008T180000
DTEND;TZID=America/Los_Angeles:20211008T210000
DTSTAMP:20260420T015032
CREATED:20211001T213445Z
LAST-MODIFIED:20211001T213445Z
UID:10001677-1633716000-1633726800@greenmeadow.org
SUMMARY:Oktoberfest
DESCRIPTION:Friday\, October 8 6 to 9 pm\nJoin us for happy hour at the clubhouse!\nEnjoy some refreshments and human interaction as we ring in the fall!\nAdult (21+) members only please.
URL:https://greenmeadow.org/event/oktoberfest/
END:VEVENT
BEGIN:VEVENT
DTSTART;TZID=America/Los_Angeles:20211002T160000
DTEND;TZID=America/Los_Angeles:20211002T170000
DTSTAMP:20260420T015032
CREATED:20211001T221313Z
LAST-MODIFIED:20211001T221313Z
UID:10001679-1633190400-1633194000@greenmeadow.org
SUMMARY:Improving home efficiency and reducing home emissions
DESCRIPTION:Interested in Solar? Mini splits? Home batteries? EVs and chargers? Electric radiant? Heat pump water heaters?\n\n\n\nJoin us for a panel discussion with Greenmeadow families who have these. Saturday October 2 at 4pm in Greenmeadow Park.\nCome with your questions and to share what you know.\nThis is planned for outdoors in the park\, but if it is too hot we will move indoors\, so please bring a mask.\nIce cream and popsicles\, grapes\, fresh banana bread\, and drinks will be available.
URL:https://greenmeadow.org/event/improving-home-efficiency-and-reducing-home-emissions/
LOCATION:Greenmeadow Park
ATTACH;FMTTYPE=image/jpeg:https://greenmeadow.org/wp-content/uploads/house.jpeg
END:VEVENT
BEGIN:VEVENT
DTSTART;TZID=America/Los_Angeles:20210723T173000
DTEND;TZID=America/Los_Angeles:20210723T193000
DTSTAMP:20260420T015032
CREATED:20210626T222619Z
LAST-MODIFIED:20210626T222619Z
UID:10001673-1627061400-1627068600@greenmeadow.org
SUMMARY:MARLINS : FRIDAY NIGHT DINNER-PIZZA NIGHT
DESCRIPTION:
URL:https://greenmeadow.org/event/marlins-friday-night-dinner-pizza-night/
LOCATION:Greenmeadow Pool
END:VEVENT
BEGIN:VEVENT
DTSTART;TZID=America/Los_Angeles:20210717T180000
DTEND;TZID=America/Los_Angeles:20210717T220000
DTSTAMP:20260420T015032
CREATED:20210626T222451Z
LAST-MODIFIED:20210626T222451Z
UID:10001672-1626544800-1626559200@greenmeadow.org
SUMMARY:MARLINS : Dive-In Movie
DESCRIPTION:
URL:https://greenmeadow.org/event/marlins-dive-in-movie/
LOCATION:Greenmeadow Pool
END:VEVENT
BEGIN:VEVENT
DTSTART;TZID=America/Los_Angeles:20210714T190000
DTEND;TZID=America/Los_Angeles:20210714T200000
DTSTAMP:20260420T015032
CREATED:20210626T221803Z
LAST-MODIFIED:20210626T222924Z
UID:10001669-1626289200-1626292800@greenmeadow.org
SUMMARY:GMCA Quarterly Board Meeting @7PM
DESCRIPTION:In-Person with our traditional summer ice cream social!
URL:https://greenmeadow.org/event/gmca-quarterly-board-meeting-8pm/
LOCATION:Clubhouse
END:VEVENT
BEGIN:VEVENT
DTSTART;TZID=America/Los_Angeles:20210714T163000
DTEND;TZID=America/Los_Angeles:20210714T183000
DTSTAMP:20260420T015032
CREATED:20210626T222012Z
LAST-MODIFIED:20210626T222121Z
UID:10001671-1626280200-1626287400@greenmeadow.org
SUMMARY:MARLINS : Pizza After Evening Practice
DESCRIPTION:
URL:https://greenmeadow.org/event/marlins-evening-practice-pizza/
END:VEVENT
BEGIN:VEVENT
DTSTART;TZID=America/Los_Angeles:20210714T090000
DTEND;TZID=America/Los_Angeles:20210714T103000
DTSTAMP:20260420T015032
CREATED:20210626T221927Z
LAST-MODIFIED:20210626T222231Z
UID:10001670-1626253200-1626258600@greenmeadow.org
SUMMARY:MARLINS : Donuts After Morning Practice
DESCRIPTION:
URL:https://greenmeadow.org/event/marlins-morning-practice-donuts/
END:VEVENT
BEGIN:VEVENT
DTSTART;TZID=America/Los_Angeles:20210710T170000
DTEND;TZID=America/Los_Angeles:20210710T200000
DTSTAMP:20260420T015032
CREATED:20210626T221317Z
LAST-MODIFIED:20210626T221317Z
UID:10001668-1625936400-1625947200@greenmeadow.org
SUMMARY:MARLINS : Awards Night Party
DESCRIPTION:Celebrate a great 2021 season
URL:https://greenmeadow.org/event/marlins-awards-night-party/
LOCATION:Greenmeadow Park
END:VEVENT
BEGIN:VEVENT
DTSTART;TZID=America/Los_Angeles:20210710T080000
DTEND;TZID=America/Los_Angeles:20210710T120000
DTSTAMP:20260420T015032
CREATED:20210626T221010Z
LAST-MODIFIED:20210626T221010Z
UID:10001667-1625904000-1625918400@greenmeadow.org
SUMMARY:MARLINS : Third JSSL Virtual Meet vs Eichler
DESCRIPTION:Welcome to the our last 2021 Greenmeadow virtual JSSL meet vs. Eichler!  Swimmers may sign up for up to three individual events plus the Individual Medley (IM)\, which is a bonus non-scoring event.  The coaches will set up the relays\, which are mixed gender. \n  \nGreenmeadow Pool\nWarm-up: 7:00 AM\nStart: 8:00 AM\nEnd: 12:00 PM (estimated)
URL:https://greenmeadow.org/event/marlins-third-jssl-virtual-meet-vs-eichler/
LOCATION:Greenmeadow Pool
END:VEVENT
BEGIN:VEVENT
DTSTART;TZID=America/Los_Angeles:20210709T160000
DTEND;TZID=America/Los_Angeles:20210709T180000
DTSTAMP:20260420T015032
CREATED:20210626T220732Z
LAST-MODIFIED:20210626T223247Z
UID:10001666-1625846400-1625853600@greenmeadow.org
SUMMARY:MARLINS : Pep Rally in the Park
DESCRIPTION:Come get ready for the last swim meet of the 2021 season with a fun pep rally!
URL:https://greenmeadow.org/event/marlins-pep-rally-in-the-park/
LOCATION:Greenmeadow Park
END:VEVENT
BEGIN:VEVENT
DTSTART;TZID=America/Los_Angeles:20210704T080000
DTEND;TZID=America/Los_Angeles:20210704T170000
DTSTAMP:20260420T015032
CREATED:20210626T220106Z
LAST-MODIFIED:20210626T220106Z
UID:10001665-1625385600-1625418000@greenmeadow.org
SUMMARY:July 4th Festivities
DESCRIPTION:The races take place on Parkside\, Nelson\, Creekside and Greenmeadow. Be sure to keep your vehicles off the street.\n\n8:45 Register for triathlon (ages 5-12)\n9:00 Triathlon begins. Register for 1K and 5K races (ages 5+)\n9:30 1K and 5K races begin\n10:00 Parade judges and marshals gather in parking lot\n10:30 Parade assembly. Judging of fl oats\, bikes\, pets\, and more\n11:00 Parade begins\n11:45 Picnic\, barbecue\, and bake sale in park\n12:30 Field games in park\n1:30 Race and parade awards in park\n2:00 Pool opens\n2:30 Pool games for all ages\n5:00 Pool closes
URL:https://greenmeadow.org/event/july-4th-festivities/
END:VEVENT
END:VCALENDAR